BEGIN:VCALENDAR
VERSION:2.0
PRODID:-//LYFT UPP - ECPv6.15.20//NONSGML v1.0//EN
CALSCALE:GREGORIAN
METHOD:PUBLISH
X-ORIGINAL-URL:https://lyftupp.se
X-WR-CALDESC:Events for LYFT UPP
REFRESH-INTERVAL;VALUE=DURATION:PT1H
X-Robots-Tag:noindex
X-PUBLISHED-TTL:PT1H
BEGIN:VTIMEZONE
TZID:Europe/Stockholm
BEGIN:DAYLIGHT
TZOFFSETFROM:+0100
TZOFFSETTO:+0200
TZNAME:CEST
DTSTART:20250330T010000
END:DAYLIGHT
BEGIN:STANDARD
TZOFFSETFROM:+0200
TZOFFSETTO:+0100
TZNAME:CET
DTSTART:20251026T010000
END:STANDARD
BEGIN:DAYLIGHT
TZOFFSETFROM:+0100
TZOFFSETTO:+0200
TZNAME:CEST
DTSTART:20260329T010000
END:DAYLIGHT
BEGIN:STANDARD
TZOFFSETFROM:+0200
TZOFFSETTO:+0100
TZNAME:CET
DTSTART:20261025T010000
END:STANDARD
BEGIN:DAYLIGHT
TZOFFSETFROM:+0100
TZOFFSETTO:+0200
TZNAME:CEST
DTSTART:20270328T010000
END:DAYLIGHT
BEGIN:STANDARD
TZOFFSETFROM:+0200
TZOFFSETTO:+0100
TZNAME:CET
DTSTART:20271031T010000
END:STANDARD
END:VTIMEZONE
BEGIN:VEVENT
DTSTART;TZID=Europe/Stockholm:20260517T140000
DTEND;TZID=Europe/Stockholm:20260517T170000
DTSTAMP:20260421T173556
CREATED:20260322T142412Z
LAST-MODIFIED:20260330T130447Z
UID:500-1779026400-1779037200@lyftupp.se
SUMMARY:Malmöhus Dam vs Malmö Fireflies CC
DESCRIPTION:
URL:https://lyftupp.se/event/malmohus-dam-vs-malmo-fireflies-cc/
LOCATION:Lindängens Cricketplan
CATEGORIES:Dam T20
END:VEVENT
BEGIN:VEVENT
DTSTART;TZID=Europe/Stockholm:20260524T140000
DTEND;TZID=Europe/Stockholm:20260524T170000
DTSTAMP:20260421T173556
CREATED:20260322T224216Z
LAST-MODIFIED:20260322T224216Z
UID:593-1779631200-1779642000@lyftupp.se
SUMMARY:Malmö Fireflies CC vs Helsingborg Gymkhana Dam
DESCRIPTION:
URL:https://lyftupp.se/event/malmo-fireflies-cc-vs-helsingborg-gymkhana-dam/
LOCATION:Lindängens Cricketplan
CATEGORIES:Dam T20
END:VEVENT
BEGIN:VEVENT
DTSTART;TZID=Europe/Stockholm:20260607T140000
DTEND;TZID=Europe/Stockholm:20260607T170000
DTSTAMP:20260421T173556
CREATED:20260322T224324Z
LAST-MODIFIED:20260322T224324Z
UID:595-1780840800-1780851600@lyftupp.se
SUMMARY:Helsingborg Gymkhana Dam vs Malmö Fireflies CC
DESCRIPTION:
URL:https://lyftupp.se/event/helsingborg-gymkhana-dam-vs-malmo-fireflies-cc/
CATEGORIES:Dam T20
END:VEVENT
BEGIN:VEVENT
DTSTART;TZID=Europe/Stockholm:20260614T140000
DTEND;TZID=Europe/Stockholm:20260614T170000
DTSTAMP:20260421T173556
CREATED:20260330T125624Z
LAST-MODIFIED:20260330T125624Z
UID:601-1781445600-1781456400@lyftupp.se
SUMMARY:Göteborgs CC Dam vs Malmö Fireflies CC
DESCRIPTION:
URL:https://lyftupp.se/event/goteborgs-cc-dam-vs-malmo-fireflies-cc/
CATEGORIES:Dam T20
END:VEVENT
BEGIN:VEVENT
DTSTART;TZID=Europe/Stockholm:20260628T140000
DTEND;TZID=Europe/Stockholm:20260628T170000
DTSTAMP:20260421T173556
CREATED:20260330T125728Z
LAST-MODIFIED:20260330T125728Z
UID:603-1782655200-1782666000@lyftupp.se
SUMMARY:HCA Queens XI vs Malmö Fireflies CC
DESCRIPTION:
URL:https://lyftupp.se/event/hca-queens-xi-vs-malmo-fireflies-cc/
CATEGORIES:Dam T20
END:VEVENT
BEGIN:VEVENT
DTSTART;TZID=Europe/Stockholm:20260705T140000
DTEND;TZID=Europe/Stockholm:20260705T170000
DTSTAMP:20260421T173556
CREATED:20260330T125836Z
LAST-MODIFIED:20260330T125836Z
UID:605-1783260000-1783270800@lyftupp.se
SUMMARY:Malmö Fireflies CC vs Göteborgs CC Dam
DESCRIPTION:
URL:https://lyftupp.se/event/malmo-fireflies-cc-vs-goteborgs-cc-dam/
LOCATION:Lindängens Cricketplan
CATEGORIES:Dam T20
END:VEVENT
BEGIN:VEVENT
DTSTART;TZID=Europe/Stockholm:20260719T140000
DTEND;TZID=Europe/Stockholm:20260719T170000
DTSTAMP:20260421T173556
CREATED:20260330T125951Z
LAST-MODIFIED:20260330T125951Z
UID:607-1784469600-1784480400@lyftupp.se
SUMMARY:Lugi Stars vs Malmö Fireflies CC
DESCRIPTION:
URL:https://lyftupp.se/event/lugi-stars-vs-malmo-fireflies-cc/
CATEGORIES:Dam T20
END:VEVENT
BEGIN:VEVENT
DTSTART;TZID=Europe/Stockholm:20260726T140000
DTEND;TZID=Europe/Stockholm:20260726T170000
DTSTAMP:20260421T173556
CREATED:20260330T130039Z
LAST-MODIFIED:20260330T130039Z
UID:609-1785074400-1785085200@lyftupp.se
SUMMARY:Malmö Fireflies CC vs Lugi Stars
DESCRIPTION:
URL:https://lyftupp.se/event/malmo-fireflies-cc-vs-lugi-stars/
LOCATION:Lindängens Cricketplan
CATEGORIES:Dam T20
END:VEVENT
BEGIN:VEVENT
DTSTART;TZID=Europe/Stockholm:20260802T100000
DTEND;TZID=Europe/Stockholm:20260802T130000
DTSTAMP:20260421T173556
CREATED:20260330T130126Z
LAST-MODIFIED:20260330T130126Z
UID:611-1785664800-1785675600@lyftupp.se
SUMMARY:Malmö Fireflies CC vs HCA QUEENS XI
DESCRIPTION:
URL:https://lyftupp.se/event/malmo-fireflies-cc-vs-hca-queens-xi/
LOCATION:Lindängens Cricketplan
CATEGORIES:Dam T20
END:VEVENT
BEGIN:VEVENT
DTSTART;TZID=Europe/Stockholm:20260816T140000
DTEND;TZID=Europe/Stockholm:20260816T170000
DTSTAMP:20260421T173556
CREATED:20260330T130204Z
LAST-MODIFIED:20260402T221504Z
UID:613-1786888800-1786899600@lyftupp.se
SUMMARY:Malmö Fireflies CC vs Malmöhus Dam
DESCRIPTION:
URL:https://lyftupp.se/event/malmo-fireflies-cc-vs-malmohus-dam/
LOCATION:Lindängens Cricketplan
CATEGORIES:Dam T20
END:VEVENT
END:VCALENDAR