BEGIN:VCALENDAR
VERSION:2.0
PRODID:-//LYFT UPP - ECPv6.15.20//NONSGML v1.0//EN
CALSCALE:GREGORIAN
METHOD:PUBLISH
X-ORIGINAL-URL:https://lyftupp.se
X-WR-CALDESC:Events for LYFT UPP
REFRESH-INTERVAL;VALUE=DURATION:PT1H
X-Robots-Tag:noindex
X-PUBLISHED-TTL:PT1H
BEGIN:VTIMEZONE
TZID:Europe/Stockholm
BEGIN:DAYLIGHT
TZOFFSETFROM:+0100
TZOFFSETTO:+0200
TZNAME:CEST
DTSTART:20250330T010000
END:DAYLIGHT
BEGIN:STANDARD
TZOFFSETFROM:+0200
TZOFFSETTO:+0100
TZNAME:CET
DTSTART:20251026T010000
END:STANDARD
BEGIN:DAYLIGHT
TZOFFSETFROM:+0100
TZOFFSETTO:+0200
TZNAME:CEST
DTSTART:20260329T010000
END:DAYLIGHT
BEGIN:STANDARD
TZOFFSETFROM:+0200
TZOFFSETTO:+0100
TZNAME:CET
DTSTART:20261025T010000
END:STANDARD
BEGIN:DAYLIGHT
TZOFFSETFROM:+0100
TZOFFSETTO:+0200
TZNAME:CEST
DTSTART:20270328T010000
END:DAYLIGHT
BEGIN:STANDARD
TZOFFSETFROM:+0200
TZOFFSETTO:+0100
TZNAME:CET
DTSTART:20271031T010000
END:STANDARD
END:VTIMEZONE
BEGIN:VEVENT
DTSTART;TZID=Europe/Stockholm:20260105T190000
DTEND;TZID=Europe/Stockholm:20260105T203000
DTSTAMP:20260421T211007
CREATED:20260111T141821Z
LAST-MODIFIED:20260313T230028Z
UID:262-1767639600-1767645000@lyftupp.se
SUMMARY:Dam cricket träning
DESCRIPTION:
URL:https://lyftupp.se/event/dam-cricket-traning-260105/
LOCATION:DR Cricket Center\, Sweden
CATEGORIES:Malmö Fireflies
END:VEVENT
BEGIN:VEVENT
DTSTART;TZID=Europe/Stockholm:20260112T190000
DTEND;TZID=Europe/Stockholm:20260112T203000
DTSTAMP:20260421T211007
CREATED:20260111T141919Z
LAST-MODIFIED:20260313T230123Z
UID:264-1768244400-1768249800@lyftupp.se
SUMMARY:Dam cricket träning
DESCRIPTION:
URL:https://lyftupp.se/event/dam-cricket-traning-260112/
LOCATION:DR Cricket Center\, Sweden
CATEGORIES:Malmö Fireflies
END:VEVENT
BEGIN:VEVENT
DTSTART;TZID=Europe/Stockholm:20260119T190000
DTEND;TZID=Europe/Stockholm:20260119T213000
DTSTAMP:20260421T211007
CREATED:20260111T143318Z
LAST-MODIFIED:20260313T230115Z
UID:266-1768849200-1768858200@lyftupp.se
SUMMARY:Dam cricket träning
DESCRIPTION:
URL:https://lyftupp.se/event/dam-cricket-traning-260119/
LOCATION:DR Cricket Center\, Sweden
CATEGORIES:Malmö Fireflies
END:VEVENT
BEGIN:VEVENT
DTSTART;TZID=Europe/Stockholm:20260126T190000
DTEND;TZID=Europe/Stockholm:20260126T203000
DTSTAMP:20260421T211007
CREATED:20260111T143415Z
LAST-MODIFIED:20260313T230106Z
UID:268-1769454000-1769459400@lyftupp.se
SUMMARY:Dam cricket träning
DESCRIPTION:
URL:https://lyftupp.se/event/dam-cricket-traning-260126/
LOCATION:DR Cricket Center\, Sweden
CATEGORIES:Malmö Fireflies
END:VEVENT
END:VCALENDAR