BEGIN:VCALENDAR
VERSION:2.0
PRODID:-//LYFT UPP - ECPv6.15.20//NONSGML v1.0//EN
CALSCALE:GREGORIAN
METHOD:PUBLISH
X-WR-CALNAME:LYFT UPP
X-ORIGINAL-URL:https://lyftupp.se
X-WR-CALDESC:Events for LYFT UPP
REFRESH-INTERVAL;VALUE=DURATION:PT1H
X-Robots-Tag:noindex
X-PUBLISHED-TTL:PT1H
BEGIN:VTIMEZONE
TZID:Europe/Stockholm
BEGIN:DAYLIGHT
TZOFFSETFROM:+0100
TZOFFSETTO:+0200
TZNAME:CEST
DTSTART:20250330T010000
END:DAYLIGHT
BEGIN:STANDARD
TZOFFSETFROM:+0200
TZOFFSETTO:+0100
TZNAME:CET
DTSTART:20251026T010000
END:STANDARD
BEGIN:DAYLIGHT
TZOFFSETFROM:+0100
TZOFFSETTO:+0200
TZNAME:CEST
DTSTART:20260329T010000
END:DAYLIGHT
BEGIN:STANDARD
TZOFFSETFROM:+0200
TZOFFSETTO:+0100
TZNAME:CET
DTSTART:20261025T010000
END:STANDARD
BEGIN:DAYLIGHT
TZOFFSETFROM:+0100
TZOFFSETTO:+0200
TZNAME:CEST
DTSTART:20270328T010000
END:DAYLIGHT
BEGIN:STANDARD
TZOFFSETFROM:+0200
TZOFFSETTO:+0100
TZNAME:CET
DTSTART:20271031T010000
END:STANDARD
END:VTIMEZONE
BEGIN:VEVENT
DTSTART;TZID=Europe/Stockholm:20260316T190000
DTEND;TZID=Europe/Stockholm:20260316T203000
DTSTAMP:20260422T043521
CREATED:20260217T110434Z
LAST-MODIFIED:20260313T230058Z
UID:412-1773687600-1773693000@lyftupp.se
SUMMARY:Dam cricket träning
DESCRIPTION:
URL:https://lyftupp.se/event/dam-cricket-traning-260316/
CATEGORIES:Malmö Fireflies
END:VEVENT
BEGIN:VEVENT
DTSTART;TZID=Europe/Stockholm:20260323T190000
DTEND;TZID=Europe/Stockholm:20260323T203000
DTSTAMP:20260422T043521
CREATED:20260215T132232Z
LAST-MODIFIED:20260313T230051Z
UID:391-1774292400-1774297800@lyftupp.se
SUMMARY:Dam cricket träning
DESCRIPTION:
URL:https://lyftupp.se/event/dam-cricket-traning-260323/
CATEGORIES:Malmö Fireflies
END:VEVENT
BEGIN:VEVENT
DTSTART;TZID=Europe/Stockholm:20260330T190000
DTEND;TZID=Europe/Stockholm:20260330T203000
DTSTAMP:20260422T043521
CREATED:20260215T152737Z
LAST-MODIFIED:20260313T230013Z
UID:404-1774897200-1774902600@lyftupp.se
SUMMARY:Dam cricket träning
DESCRIPTION:
URL:https://lyftupp.se/event/dam-cricket-traning-260330/
CATEGORIES:Malmö Fireflies
END:VEVENT
BEGIN:VEVENT
DTSTART;TZID=Europe/Stockholm:20260407T173000
DTEND;TZID=Europe/Stockholm:20260407T193000
DTSTAMP:20260422T043521
CREATED:20260313T225501Z
LAST-MODIFIED:20260313T225536Z
UID:429-1775583000-1775590200@lyftupp.se
SUMMARY:Dam cricket träning
DESCRIPTION:
URL:https://lyftupp.se/event/dam-cricket-traning-260407/
LOCATION:Lindängens Cricketplan
CATEGORIES:Malmö Fireflies
END:VEVENT
BEGIN:VEVENT
DTSTART;TZID=Europe/Stockholm:20260414T173000
DTEND;TZID=Europe/Stockholm:20260414T193000
DTSTAMP:20260422T043521
CREATED:20260313T225502Z
LAST-MODIFIED:20260313T225544Z
UID:430-1776187800-1776195000@lyftupp.se
SUMMARY:Dam cricket träning
DESCRIPTION:
URL:https://lyftupp.se/event/dam-cricket-traning-260414/
LOCATION:Lindängens Cricketplan
CATEGORIES:Malmö Fireflies
END:VEVENT
BEGIN:VEVENT
DTSTART;TZID=Europe/Stockholm:20260421T173000
DTEND;TZID=Europe/Stockholm:20260421T193000
DTSTAMP:20260422T043521
CREATED:20260313T225503Z
LAST-MODIFIED:20260313T225553Z
UID:431-1776792600-1776799800@lyftupp.se
SUMMARY:Dam cricket träning
DESCRIPTION:
URL:https://lyftupp.se/event/dam-cricket-traning-260421/
LOCATION:Lindängens Cricketplan
CATEGORIES:Malmö Fireflies
END:VEVENT
BEGIN:VEVENT
DTSTART;TZID=Europe/Stockholm:20260428T173000
DTEND;TZID=Europe/Stockholm:20260428T193000
DTSTAMP:20260422T043521
CREATED:20260313T225504Z
LAST-MODIFIED:20260313T225601Z
UID:432-1777397400-1777404600@lyftupp.se
SUMMARY:Dam cricket träning
DESCRIPTION:
URL:https://lyftupp.se/event/dam-cricket-traning-260428/
LOCATION:Lindängens Cricketplan
CATEGORIES:Malmö Fireflies
END:VEVENT
BEGIN:VEVENT
DTSTART;TZID=Europe/Stockholm:20260505T173000
DTEND;TZID=Europe/Stockholm:20260505T193000
DTSTAMP:20260422T043521
CREATED:20260322T112909Z
LAST-MODIFIED:20260322T113120Z
UID:460-1778002200-1778009400@lyftupp.se
SUMMARY:Dam cricket träning
DESCRIPTION:
URL:https://lyftupp.se/event/dam-cricket-traning-260505/
LOCATION:Lindängens Cricketplan
CATEGORIES:Malmö Fireflies
END:VEVENT
BEGIN:VEVENT
DTSTART;TZID=Europe/Stockholm:20260512T173000
DTEND;TZID=Europe/Stockholm:20260512T193000
DTSTAMP:20260422T043521
CREATED:20260322T112909Z
LAST-MODIFIED:20260322T113135Z
UID:461-1778607000-1778614200@lyftupp.se
SUMMARY:Dam cricket träning
DESCRIPTION:
URL:https://lyftupp.se/event/dam-cricket-traning-260512/
LOCATION:Lindängens Cricketplan
CATEGORIES:Malmö Fireflies
END:VEVENT
BEGIN:VEVENT
DTSTART;TZID=Europe/Stockholm:20260519T173000
DTEND;TZID=Europe/Stockholm:20260519T193000
DTSTAMP:20260422T043521
CREATED:20260322T112910Z
LAST-MODIFIED:20260322T113145Z
UID:462-1779211800-1779219000@lyftupp.se
SUMMARY:Dam cricket träning
DESCRIPTION:
URL:https://lyftupp.se/event/dam-cricket-traning-260519/
LOCATION:Lindängens Cricketplan
CATEGORIES:Malmö Fireflies
END:VEVENT
BEGIN:VEVENT
DTSTART;TZID=Europe/Stockholm:20260526T173000
DTEND;TZID=Europe/Stockholm:20260526T193000
DTSTAMP:20260422T043521
CREATED:20260322T112910Z
LAST-MODIFIED:20260322T113154Z
UID:463-1779816600-1779823800@lyftupp.se
SUMMARY:Dam cricket träning
DESCRIPTION:
URL:https://lyftupp.se/event/dam-cricket-traning-260526/
LOCATION:Lindängens Cricketplan
CATEGORIES:Malmö Fireflies
END:VEVENT
BEGIN:VEVENT
DTSTART;TZID=Europe/Stockholm:20260602T173000
DTEND;TZID=Europe/Stockholm:20260602T193000
DTSTAMP:20260422T043521
CREATED:20260322T112910Z
LAST-MODIFIED:20260322T113207Z
UID:464-1780421400-1780428600@lyftupp.se
SUMMARY:Dam cricket träning
DESCRIPTION:
URL:https://lyftupp.se/event/dam-cricket-traning-260602/
LOCATION:Lindängens Cricketplan
CATEGORIES:Malmö Fireflies
END:VEVENT
BEGIN:VEVENT
DTSTART;TZID=Europe/Stockholm:20260609T173000
DTEND;TZID=Europe/Stockholm:20260609T193000
DTSTAMP:20260422T043521
CREATED:20260322T112913Z
LAST-MODIFIED:20260322T113216Z
UID:465-1781026200-1781033400@lyftupp.se
SUMMARY:Dam cricket träning
DESCRIPTION:
URL:https://lyftupp.se/event/dam-cricket-traning-260609/
LOCATION:Lindängens Cricketplan
CATEGORIES:Malmö Fireflies
END:VEVENT
BEGIN:VEVENT
DTSTART;TZID=Europe/Stockholm:20260616T173000
DTEND;TZID=Europe/Stockholm:20260616T193000
DTSTAMP:20260422T043521
CREATED:20260322T112913Z
LAST-MODIFIED:20260322T113226Z
UID:466-1781631000-1781638200@lyftupp.se
SUMMARY:Dam cricket träning
DESCRIPTION:
URL:https://lyftupp.se/event/dam-cricket-traning-260616/
LOCATION:Lindängens Cricketplan
CATEGORIES:Malmö Fireflies
END:VEVENT
BEGIN:VEVENT
DTSTART;TZID=Europe/Stockholm:20260623T173000
DTEND;TZID=Europe/Stockholm:20260623T193000
DTSTAMP:20260422T043521
CREATED:20260322T112913Z
LAST-MODIFIED:20260322T113235Z
UID:467-1782235800-1782243000@lyftupp.se
SUMMARY:Dam cricket träning
DESCRIPTION:
URL:https://lyftupp.se/event/dam-cricket-traning-260623/
LOCATION:Lindängens Cricketplan
CATEGORIES:Malmö Fireflies
END:VEVENT
BEGIN:VEVENT
DTSTART;TZID=Europe/Stockholm:20260630T173000
DTEND;TZID=Europe/Stockholm:20260630T193000
DTSTAMP:20260422T043521
CREATED:20260322T112913Z
LAST-MODIFIED:20260322T113244Z
UID:468-1782840600-1782847800@lyftupp.se
SUMMARY:Dam cricket träning
DESCRIPTION:
URL:https://lyftupp.se/event/dam-cricket-traning-260630/
LOCATION:Lindängens Cricketplan
CATEGORIES:Malmö Fireflies
END:VEVENT
BEGIN:VEVENT
DTSTART;TZID=Europe/Stockholm:20260707T173000
DTEND;TZID=Europe/Stockholm:20260707T193000
DTSTAMP:20260422T043521
CREATED:20260322T112914Z
LAST-MODIFIED:20260322T113259Z
UID:469-1783445400-1783452600@lyftupp.se
SUMMARY:Dam cricket träning
DESCRIPTION:
URL:https://lyftupp.se/event/dam-cricket-traning-260707/
LOCATION:Lindängens Cricketplan
CATEGORIES:Malmö Fireflies
END:VEVENT
BEGIN:VEVENT
DTSTART;TZID=Europe/Stockholm:20260714T173000
DTEND;TZID=Europe/Stockholm:20260714T193000
DTSTAMP:20260422T043521
CREATED:20260322T112927Z
LAST-MODIFIED:20260322T113311Z
UID:470-1784050200-1784057400@lyftupp.se
SUMMARY:Dam cricket träning
DESCRIPTION:
URL:https://lyftupp.se/event/dam-cricket-traning-260714/
LOCATION:Lindängens Cricketplan
CATEGORIES:Malmö Fireflies
END:VEVENT
BEGIN:VEVENT
DTSTART;TZID=Europe/Stockholm:20260721T173000
DTEND;TZID=Europe/Stockholm:20260721T193000
DTSTAMP:20260422T043521
CREATED:20260322T112927Z
LAST-MODIFIED:20260322T113322Z
UID:471-1784655000-1784662200@lyftupp.se
SUMMARY:Dam cricket träning
DESCRIPTION:
URL:https://lyftupp.se/event/dam-cricket-traning-260721/
LOCATION:Lindängens Cricketplan
CATEGORIES:Malmö Fireflies
END:VEVENT
BEGIN:VEVENT
DTSTART;TZID=Europe/Stockholm:20260728T173000
DTEND;TZID=Europe/Stockholm:20260728T193000
DTSTAMP:20260422T043521
CREATED:20260322T112927Z
LAST-MODIFIED:20260322T113331Z
UID:472-1785259800-1785267000@lyftupp.se
SUMMARY:Dam cricket träning
DESCRIPTION:
URL:https://lyftupp.se/event/dam-cricket-traning-260728/
LOCATION:Lindängens Cricketplan
CATEGORIES:Malmö Fireflies
END:VEVENT
BEGIN:VEVENT
DTSTART;TZID=Europe/Stockholm:20260804T173000
DTEND;TZID=Europe/Stockholm:20260804T193000
DTSTAMP:20260422T043521
CREATED:20260322T112928Z
LAST-MODIFIED:20260322T113343Z
UID:473-1785864600-1785871800@lyftupp.se
SUMMARY:Dam cricket träning
DESCRIPTION:
URL:https://lyftupp.se/event/dam-cricket-traning-260824/
LOCATION:Lindängens Cricketplan
CATEGORIES:Malmö Fireflies
END:VEVENT
BEGIN:VEVENT
DTSTART;TZID=Europe/Stockholm:20260811T173000
DTEND;TZID=Europe/Stockholm:20260811T193000
DTSTAMP:20260422T043521
CREATED:20260322T112928Z
LAST-MODIFIED:20260322T113350Z
UID:474-1786469400-1786476600@lyftupp.se
SUMMARY:Dam cricket träning
DESCRIPTION:
URL:https://lyftupp.se/event/dam-cricket-traning-260811/
LOCATION:Lindängens Cricketplan
CATEGORIES:Malmö Fireflies
END:VEVENT
BEGIN:VEVENT
DTSTART;TZID=Europe/Stockholm:20260818T173000
DTEND;TZID=Europe/Stockholm:20260818T193000
DTSTAMP:20260422T043521
CREATED:20260322T112942Z
LAST-MODIFIED:20260322T113402Z
UID:475-1787074200-1787081400@lyftupp.se
SUMMARY:Dam cricket träning
DESCRIPTION:
URL:https://lyftupp.se/event/dam-cricket-traning-260818/
LOCATION:Lindängens Cricketplan
CATEGORIES:Malmö Fireflies
END:VEVENT
BEGIN:VEVENT
DTSTART;TZID=Europe/Stockholm:20260825T173000
DTEND;TZID=Europe/Stockholm:20260825T193000
DTSTAMP:20260422T043521
CREATED:20260322T112942Z
LAST-MODIFIED:20260322T113416Z
UID:476-1787679000-1787686200@lyftupp.se
SUMMARY:Dam cricket träning
DESCRIPTION:
URL:https://lyftupp.se/event/dam-cricket-traning-260825/
LOCATION:Lindängens Cricketplan
CATEGORIES:Malmö Fireflies
END:VEVENT
BEGIN:VEVENT
DTSTART;TZID=Europe/Stockholm:20260901T173000
DTEND;TZID=Europe/Stockholm:20260901T193000
DTSTAMP:20260422T043521
CREATED:20260322T112942Z
LAST-MODIFIED:20260322T113425Z
UID:477-1788283800-1788291000@lyftupp.se
SUMMARY:Dam cricket träning
DESCRIPTION:
URL:https://lyftupp.se/event/dam-cricket-traning-260901/
LOCATION:Lindängens Cricketplan
CATEGORIES:Malmö Fireflies
END:VEVENT
END:VCALENDAR