BEGIN:VCALENDAR
VERSION:2.0
PRODID:-//LYFT UPP - ECPv6.15.20//NONSGML v1.0//EN
CALSCALE:GREGORIAN
METHOD:PUBLISH
X-ORIGINAL-URL:https://lyftupp.se
X-WR-CALDESC:Events for LYFT UPP
REFRESH-INTERVAL;VALUE=DURATION:PT1H
X-Robots-Tag:noindex
X-PUBLISHED-TTL:PT1H
BEGIN:VTIMEZONE
TZID:Europe/Stockholm
BEGIN:DAYLIGHT
TZOFFSETFROM:+0100
TZOFFSETTO:+0200
TZNAME:CEST
DTSTART:20250330T010000
END:DAYLIGHT
BEGIN:STANDARD
TZOFFSETFROM:+0200
TZOFFSETTO:+0100
TZNAME:CET
DTSTART:20251026T010000
END:STANDARD
BEGIN:DAYLIGHT
TZOFFSETFROM:+0100
TZOFFSETTO:+0200
TZNAME:CEST
DTSTART:20260329T010000
END:DAYLIGHT
BEGIN:STANDARD
TZOFFSETFROM:+0200
TZOFFSETTO:+0100
TZNAME:CET
DTSTART:20261025T010000
END:STANDARD
BEGIN:DAYLIGHT
TZOFFSETFROM:+0100
TZOFFSETTO:+0200
TZNAME:CEST
DTSTART:20270328T010000
END:DAYLIGHT
BEGIN:STANDARD
TZOFFSETFROM:+0200
TZOFFSETTO:+0100
TZNAME:CET
DTSTART:20271031T010000
END:STANDARD
END:VTIMEZONE
BEGIN:VEVENT
DTSTART;TZID=Europe/Stockholm:20260202T190000
DTEND;TZID=Europe/Stockholm:20260202T203000
DTSTAMP:20260421T200355
CREATED:20260111T143634Z
LAST-MODIFIED:20260313T230035Z
UID:270-1770058800-1770064200@lyftupp.se
SUMMARY:Dam cricket träning
DESCRIPTION:
URL:https://lyftupp.se/event/dam-cricket-traning-260202/
LOCATION:DR Cricket Center\, Sweden
CATEGORIES:Malmö Fireflies
END:VEVENT
BEGIN:VEVENT
DTSTART;TZID=Europe/Stockholm:20260209T190000
DTEND;TZID=Europe/Stockholm:20260209T200000
DTSTAMP:20260421T200355
CREATED:20260111T154716Z
LAST-MODIFIED:20260313T230154Z
UID:272-1770663600-1770667200@lyftupp.se
SUMMARY:Dam cricket träning
DESCRIPTION:
URL:https://lyftupp.se/event/dam-cricket-traning-260209/
LOCATION:DR Cricket Center\, Sweden
CATEGORIES:Malmö Fireflies
END:VEVENT
BEGIN:VEVENT
DTSTART;TZID=Europe/Stockholm:20260216T190000
DTEND;TZID=Europe/Stockholm:20260216T203000
DTSTAMP:20260421T200355
CREATED:20260215T152650Z
LAST-MODIFIED:20260313T230134Z
UID:402-1771268400-1771273800@lyftupp.se
SUMMARY:Dam cricket träning
DESCRIPTION:
URL:https://lyftupp.se/event/dam-cricket-traning-260216/
CATEGORIES:Malmö Fireflies
END:VEVENT
BEGIN:VEVENT
DTSTART;TZID=Europe/Stockholm:20260222T150000
DTEND;TZID=Europe/Stockholm:20260222T170000
DTSTAMP:20260421T200355
CREATED:20260215T115657Z
LAST-MODIFIED:20260224T170005Z
UID:389-1771772400-1771779600@lyftupp.se
SUMMARY:Årsmöte 2026
DESCRIPTION:
URL:https://lyftupp.se/event/arsmote-2026/
CATEGORIES:Förening
ORGANIZER;CN="LYFT UPP F%C3%B6rening":MAILTO:info@lyftupp.se
END:VEVENT
BEGIN:VEVENT
DTSTART;TZID=Europe/Stockholm:20260223T190000
DTEND;TZID=Europe/Stockholm:20260223T203000
DTSTAMP:20260421T200355
CREATED:20260217T110312Z
LAST-MODIFIED:20260313T230045Z
UID:406-1771873200-1771878600@lyftupp.se
SUMMARY:Dam cricket träning
DESCRIPTION:
URL:https://lyftupp.se/event/dam-cricket-traning-260223/
CATEGORIES:Malmö Fireflies
END:VEVENT
END:VCALENDAR